BEGIN:VCALENDAR
VERSION:2.0
PRODID:-//wp-events-plugin.com//7.2.3.1//EN
TZID:America/New_York
X-WR-TIMEZONE:America/New_York
BEGIN:VEVENT
UID:3861@royaltonradio.org
DTSTART;TZID=America/New_York:20250319T183000
DTEND;TZID=America/New_York:20250319T203000
DTSTAMP:20250122T032151Z
URL:https://www.royaltonradio.org/events/acoustic-jam-session-at-artistree
 -with-kerry-rosenthal-3/
SUMMARY:Acoustic Jam Session at Artistree with Kerry Rosenthal!
DESCRIPTION:\n\n\n\nAcoustic Jam Session at Artistree with Kerry Rosenthal!
 \n\n\n\nReturn to events\n\n\n\n\n\n\nWed Jan 22\, 2025 - Wed May 21\, 202
 5\n\n\n\n\n\nHere’s a chance to play with other musicians. Bring your in
 strument and a few songs or tunes to play. We go in a circle and everyone 
 gets a chance to call the tune (and a key!) and all of us join in the play
 ing and singing. This is not an open mic - all acoustic and all group part
 icipation. Come down and give it a try.\n\nKerry Rosenthal is a local mus
 ician performing regularly with the band Rose Hip Jam and also leading mus
 ic and singing for many Upper Valley educational/recreational and resident
 ial organizations. A professionally trained musician\, she has taught guit
 ar\, ukulele and performance art for 12+ years around the Upper Valley bas
 ed out of her studio in Taftsville\, Vermont.\n\n\n\n\n\n\n\n\n\n\n\n\n\n\
 nAcoustic Jam Session\nWednesday\, January 22\, 2025 - 06:30 PM EST\n\n\n\
 nSelect\n\n\nAcoustic Jam Session\nThursday\, February 20\, 2025 - 06:30 P
 M EST\n\n\n\nSelect\n\n\nAcoustic Jam Session\nWednesday\, March 19\, 2025
  - 06:30 PM EST\n\n\n\nSelect\n\n\nAcoustic Jam Session\nWednesday\, April
  16\, 2025 - 06:30 PM EST\n\n\n\nSelect\n\n\nAcoustic Jam Session\nWednesd
 ay\, May 21\, 2025 - 06:30 PM EST\n\n\n\nSelect\n\n\n\n\n\n\n\n\n\n\n\n\n&
 nbsp\;\n\n\n\n\n
CATEGORIES:Music
LOCATION:Artistree\, 2095 Pomfret Road\, Pomfret\, VT\, United States
X-APPLE-STRUCTURED-LOCATION;VALUE=URI;X-ADDRESS=2095 Pomfret Road\, Pomfret
 \, VT\, United States;X-APPLE-RADIUS=100;X-TITLE=Artistree:geo:0,0
END:VEVENT
BEGIN:VTIMEZONE
TZID:America/New_York
X-LIC-LOCATION:America/New_York
BEGIN:DAYLIGHT
DTSTART:20250309T030000
TZOFFSETFROM:-0500
TZOFFSETTO:-0400
TZNAME:EDT
END:DAYLIGHT
END:VTIMEZONE
END:VCALENDAR