BEGIN:VCALENDAR
VERSION:2.0
PRODID:-//wp-events-plugin.com//7.2.3.1//EN
TZID:America/New_York
X-WR-TIMEZONE:America/New_York
BEGIN:VEVENT
UID:6785@royaltonradio.org
DTSTART;TZID=America/New_York:20250926T170000
DTEND;TZID=America/New_York:20250926T200000
DTSTAMP:20250814T173628Z
URL:https://www.royaltonradio.org/events/grateful-dead-night-at-river-roos
 t-brewery-in-wrj-2025-08-15-2025-08-22-2025-08-29-2025-09-05-2025-09-12-20
 25-09-19-2025-09-26/
SUMMARY:Grateful Dead Night at River Roost Brewery in WRJ!
DESCRIPTION:
CATEGORIES:Music
LOCATION:River Roost\, 230 South Main Street\, White River Junction\, Unite
 d States
X-APPLE-STRUCTURED-LOCATION;VALUE=URI;X-ADDRESS=230 South Main Street\, Whi
 te River Junction\, United States;X-APPLE-RADIUS=100;X-TITLE=River Roost:g
 eo:0,0
END:VEVENT
BEGIN:VTIMEZONE
TZID:America/New_York
X-LIC-LOCATION:America/New_York
BEGIN:DAYLIGHT
DTSTART:20250309T030000
TZOFFSETFROM:-0500
TZOFFSETTO:-0400
TZNAME:EDT
END:DAYLIGHT
END:VTIMEZONE
END:VCALENDAR