BEGIN:VCALENDAR
VERSION:2.0
PRODID:-//wp-events-plugin.com//7.2.3.1//EN
TZID:America/New_York
X-WR-TIMEZONE:America/New_York
BEGIN:VEVENT
UID:5475@royaltonradio.org
DTSTART:20250628T133000Z
DTEND:20250628T133000Z
DTSTAMP:20250617T030204Z
URL:https://www.royaltonradio.org/events/royalton-welcomes-back-fafayette-
 after-200-years/
SUMMARY:Royalton Welcomes Back FAFAYETTE after 200 Years!
DESCRIPTION:
LOCATION:St Paul's Episcopal Church\, 58 Bridge Street\, Royalton\, VT\, Un
 ited States
X-APPLE-STRUCTURED-LOCATION;VALUE=URI;X-ADDRESS=58 Bridge Street\, Royalton
 \, VT\, United States;X-APPLE-RADIUS=100;X-TITLE=St Paul's Episcopal Churc
 h:geo:0,0
END:VEVENT
END:VCALENDAR