BEGIN:VCALENDAR
VERSION:2.0
PRODID:-//wp-events-plugin.com//7.2.3.1//EN
TZID:America/New_York
X-WR-TIMEZONE:America/New_York
BEGIN:VEVENT
UID:3239@royaltonradio.org
DTSTART;TZID=America/New_York:20241130T170000
DTEND;TZID=America/New_York:20241130T190000
DTSTAMP:20241130T021649Z
URL:https://www.royaltonradio.org/events/singer-songwriter-katie-dobbins-a
 t-harrys-in-quechee/
SUMMARY:Singer/Songwriter Katie Dobbins at Harry's in Quechee!
DESCRIPTION:Singer/Songwriter Katie Dobbins at Harry's in Quechee!\nSaturda
 y 11/30: singer/songwriter Katie Dobbins 5-7\nSunday 12/1: classic covers 
 from the 60s\, 70s\, 80s and 90s with Jim Yeager\, 2-4\nWe’re open Frida
 y and Saturday 4-8\, and Sunday 1-5\, serving cocktails and a curated sele
 ction of wine\, beer and charcuterie!\nHarry’s Cocktail Lounge at Vermon
 t Spirits Located in Quechee Gorge Village off of Rt. 4
CATEGORIES:Music
LOCATION:Harry's Cocktail Lounge at Vermont Spirits\, 5573 Woodstock Rd (Ro
 ute 4 Queche Gorge)\, Quechee\, VT\, United States
X-APPLE-STRUCTURED-LOCATION;VALUE=URI;X-ADDRESS=5573 Woodstock Rd (Route 4 
 Queche Gorge)\, Quechee\, VT\, United States;X-APPLE-RADIUS=100;X-TITLE=Ha
 rry's Cocktail Lounge at Vermont Spirits:geo:0,0
END:VEVENT
BEGIN:VTIMEZONE
TZID:America/New_York
X-LIC-LOCATION:America/New_York
BEGIN:STANDARD
DTSTART:20241103T010000
TZOFFSETFROM:-0400
TZOFFSETTO:-0500
TZNAME:EST
END:STANDARD
END:VTIMEZONE
END:VCALENDAR