BEGIN:VCALENDAR
VERSION:2.0
PRODID:-//wp-events-plugin.com//7.2.3.1//EN
TZID:America/New_York
X-WR-TIMEZONE:America/New_York
BEGIN:VEVENT
UID:5530@royaltonradio.org
DTSTART:20250622T160000Z
DTEND:20250629T180000Z
DTSTAMP:20250619T172843Z
URL:https://www.royaltonradio.org/events/sound-of-music-outdoors-at-king-f
 arm-in-woodstock-2/
SUMMARY:SOUND OF MUSIC outdoors at King Farm in Woodstock!
DESCRIPTION:\n\n\nJoyous outdoor production of SOUND OF MUSIC opens Thursda
 y (or Friday?)!\nBarnArts presents\nTHE SOUND OF MUSIC\nby Rogers &amp\; H
 ammerstein\n\nDirector: Linda Treash\nMusic Director:  Carol Cronce\nVocal
  Director:  Michael Zsoldos\nChoreographer: Bridgette Hammond\nCostume Des
 igner: August Doughty\n\nStarring: Adam Huyck\, Albert Falcone\, Alicia Ho
 dges\, Beth Malow\, Christine\nMeagher\, Christopher Wehrman\, Dev Thakur\
 , Elizabeth Linsley\, Flora Powell\nQuevedo\, Ginny Pomeroy\, Greg Pomeroy
 \, Henry Butler\, Jenevra Wetmore\, Josie\nFlaster\, Julia Flaster\, Kaetl
 yn Collins\, Kyra Monsam\, Laura Montgomery\,\nLili Morris\, Lisa Milligan
 \, Marlena Farinas\, Maryann Postans\, Natalie\nThakur\, Roxie Sherwin\, S
 ophia Kohl\, Steve Pert\, Tasia Benoit\, Taylor Hobson\n\nThursday: June 1
 9–6pm\nFridays &amp\; Saturdays: June 20-21 &amp\; 27-28–6pm\nSundays:
  June 22 &amp\; 29–4pm\n\nPlease note: We are closely watching the weath
 er for Thursday's opening\nnight.\nTicket holders will be emailed and our 
 website will be updated with the\ndecision at 11am on Thursday!\nTickets p
 urchased for Thursday will be good at any performance and this\nweekend lo
 oks beautiful (and warm!)\n\nOutdoors at King Farm\n128 King Farm Road\nWo
 odstock\, Vermont\n\nTickets:\nAdults - $25\nStudent/Discount - $18\n12 &a
 mp\; under - $12\n\nReserve your tickets now! https://barnarts.ludus.com/2
 00481695\n\nOn the cusp of WWII\, the nuns of Nonnberg Abbey aren't so sur
 e the abbey is\nthe right spot for Maria. Luckily\, the von Trapp family i
 s in dire need of\na governess. and Maria is just the joy they need. Her l
 ove and music\nsupports a gripping escape from the coming Nazis that led t
 he real von\nTrapps to a life in Vermont!\n\nJoin BarnArts on King Farm la
 wn and experience this classic musical with\ngiant maples\, aged stone wal
 ls\, and views of rolling hills providing the\nstunning stage for an outst
 anding cast and crew of over 30 local creatives.\n\nFor more info: https:/
 /barnarts.org/sound-of-music\n\nBarnArts Center for the Arts\nPO Box 41\nB
 arnard\, VT 05031\nwww.barnarts.org\n\ninfo@barnarts.org\n802-234-1645 (Ba
 rnArts voicemail)\n
LOCATION:King Farm\, 128 King Farm Rd\, Woodstock\, VT\, United States
X-APPLE-STRUCTURED-LOCATION;VALUE=URI;X-ADDRESS=128 King Farm Rd\, Woodstoc
 k\, VT\, United States;X-APPLE-RADIUS=100;X-TITLE=King Farm:geo:0,0
END:VEVENT
END:VCALENDAR