BEGIN:VCALENDAR
VERSION:2.0
PRODID:-//wp-events-plugin.com//7.2.3.1//EN
TZID:America/New_York
X-WR-TIMEZONE:America/New_York
BEGIN:VEVENT
UID:6259@royaltonradio.org
DTSTART;TZID=America/New_York:20250816T193000
DTEND;TZID=America/New_York:20250816T210000
DTSTAMP:20250724T175053Z
URL:https://www.royaltonradio.org/events/string-sextets-central-vermont-ch
 amber-music-festival/
SUMMARY:String Sextets - Central Vermont Chamber Music Festival
DESCRIPTION:Join us Sat\, Aug 16 for the 32nd Annual Central Vermont Chambe
 r Music Festival! Peter Sanders joins The String Sextets for Borodin’s S
 extet in D Minor\, Nico Muhly’s choral-inspired work\, and Dvořák’s 
 beloved Sextet in A Major.
CATEGORIES:Music
LOCATION:Chandler Center for the Arts\, 71 N. Main Street\, Randolph\, VT\,
  05060\, Central Vermont \, United States
X-APPLE-STRUCTURED-LOCATION;VALUE=URI;X-ADDRESS=71 N. Main Street\, Randolp
 h\, VT\, 05060\, Central Vermont \, United States;X-APPLE-RADIUS=100;X-TIT
 LE=Chandler Center for the Arts:geo:0,0
END:VEVENT
BEGIN:VTIMEZONE
TZID:America/New_York
X-LIC-LOCATION:America/New_York
BEGIN:DAYLIGHT
DTSTART:20250309T030000
TZOFFSETFROM:-0500
TZOFFSETTO:-0400
TZNAME:EDT
END:DAYLIGHT
END:VTIMEZONE
END:VCALENDAR