BEGIN:VCALENDAR
VERSION:2.0
PRODID:-//wp-events-plugin.com//7.2.3.1//EN
TZID:America/New_York
X-WR-TIMEZONE:America/New_York
BEGIN:VEVENT
UID:4634@royaltonradio.org
DTSTART;TZID=America/New_York:20250624T180000
DTEND;TZID=America/New_York:20250624T200000
DTSTAMP:20250408T021755Z
URL:https://www.royaltonradio.org/events/trivia-at-crossroads-in-so-ro-202
 5-06-24/
SUMMARY:Trivia at Crossroads in So Ro!
DESCRIPTION:Trivia is back at Crossroads in So Ro!\n\nTuesdays from 6-8 PM!
LOCATION:Crossroads Bar &amp\; Grill\, 106 Rainbow Street\, Soth Royalton\,
  VT\, United States
X-APPLE-STRUCTURED-LOCATION;VALUE=URI;X-ADDRESS=106 Rainbow Street\, Soth R
 oyalton\, VT\, United States;X-APPLE-RADIUS=100;X-TITLE=Crossroads Bar & G
 rill:geo:0,0
END:VEVENT
BEGIN:VTIMEZONE
TZID:America/New_York
X-LIC-LOCATION:America/New_York
BEGIN:DAYLIGHT
DTSTART:20250309T030000
TZOFFSETFROM:-0500
TZOFFSETTO:-0400
TZNAME:EDT
END:DAYLIGHT
END:VTIMEZONE
END:VCALENDAR