BEGIN:VCALENDAR
VERSION:2.0
PRODID:-//wp-events-plugin.com//7.2.3.1//EN
TZID:America/New_York
X-WR-TIMEZONE:America/New_York
BEGIN:VEVENT
UID:5320@royaltonradio.org
DTSTART:20250628T083000Z
DTEND:20250628T153000Z
DTSTAMP:20250530T150543Z
URL:https://www.royaltonradio.org/events/vermont-woodlands-associations-11
 0th-anniversary-and-forest-festival/
SUMMARY:Vermont Woodlands Association’s 110th Anniversary and Forest Fest
 ival!
DESCRIPTION:Vermont Woodlands Association 110th Birthday Celebration June 2
 8--Early Bird Registration ends Monday!\nJust a reminder—early bird regi
 stration ends June 2!\nCome Celebrate Vermont’s Forests at the Vermont W
 oodlands Association’s\n110th\nAnniversary and Forest Festival\nSaturday
 \, June 28\, 2025 |  8:30 AM – 3:30 PM\nClover Hill Tree Farm\, Straffor
 d\, VT\nThe Vermont Woodlands Association is turning 110—and we’re thr
 owing a Forest\nFestival to celebrate! As a statewide nonprofit dedicated 
 to helping\nlandowners and\nprofessionals care for Vermont’s privately o
 wned forests\, we believe good\nforest\nstewardship starts with knowledge\
 , community\, and fun.\nThe event will include:\n Expert-led guided wal
 ks on wildlife\, climate resilience\, and woodland\nmanagement\n Hands-
 on activities for kids and families\, including scavenger hunts\,\nforest 
 art\,\nand stream exploration\n A family-friendly woods walk\n Live 
 music from the Seven Stars Community Fiddle Band\, led by Emerson\nGale\n
  A cookout lunch under the tent\n And plenty of inspiration for anyo
 ne who loves the woods!\nWhether you're a landowner\, a forest enthusiast\
 , or just looking for a\ngreat day outdoors\nwith natural resource experts
 \, this event is for you. Help us celebrate the\npast 110\nyears—and hel
 p shape the next century of stewardship in Vermont.\nRegister today—pre-
 registration is required!\nEarly bird pricing (through June 2nd): $30 for 
 adults\nAfter June 2nd: $40 for adults\nKids under 16 attend free (but mus
 t be registered)\nRegister now at www.vermontwoodlands.org\nQuestions? Ema
 il Kate Forrer\, VWA Executive Director at\ndirector@vermontwoodlands.org\
 , or call 802-214-4848\nWe can’t wait to celebrate with you in the woods
 !
CATEGORIES:Music
LOCATION:Clover Hill Tree Farm\, 20 Blanchrd Road\, Strafford\, VT\, United
  States
X-APPLE-STRUCTURED-LOCATION;VALUE=URI;X-ADDRESS=20 Blanchrd Road\, Straffor
 d\, VT\, United States;X-APPLE-RADIUS=100;X-TITLE=Clover Hill Tree Farm:ge
 o:0,0
END:VEVENT
END:VCALENDAR